BEGIN:VCALENDAR
VERSION:2.0
PRODID:-//ChamberMaster//Event Calendar 2.0//EN
METHOD:PUBLISH
X-PUBLISHED-TTL:P3D
REFRESH-INTERVAL:P3D
CALSCALE:GREGORIAN
BEGIN:VEVENT
DTSTART:20260713T180000Z
DTEND:20260713T200000Z
X-MICROSOFT-CDO-ALLDAYEVENT:FALSE
SUMMARY:2 Week Summer STEAM Camp with Art Emphasis
DESCRIPTION:Participants will work on drawing skills in a custom designed sketchbook\; learn color theory and painting techniques\; learn how to apply art elements & principles to enhance their work\; and learn printmaking techniques\, all while learning Adobe Illustrator & Photoshop to design for the Epilog Lasers and Roland Vinyl Cutter.\n\n\n\nThe camp is for 9-16 year old. Students will need to bring a wrinkle free t-shirt. Ruth Phillips\, Executive Director and former art teacher of 35 years\, and Fab Lab teacher for 10 years\, will lead the Camp. Choose from Session 1: 9-11 AM or Session 2: 1-3 PM.\n\n\n\nSupport through Alliant Energy Foundation Grant & Dane Arts Grant Cost: $50 Art scholarships are available.
X-ALT-DESC;FMTTYPE=text/html:Participants will work on drawing skills in a custom designed sketchbook\; learn color theory and painting techniques\; learn how to apply art elements &amp\; principles to enhance their work\; and learn printmaking techniques\, all while learning Adobe Illustrator &amp\; Photoshop to design for the Epilog Lasers and Roland Vinyl Cutter.<br />\n<br />\nThe camp is for 9-16 year old. Students will need to bring a wrinkle free t-shirt. Ruth Phillips\, Executive Director and former art teacher of 35 years\, and Fab Lab teacher for 10 years\, will lead the Camp. Choose from Session 1: 9-11 AM or Session 2: 1-3 PM.<br />\n<br />\nSupport through Alliant Energy Foundation Grant &amp\; Dane Arts Grant Cost: $50 Art scholarships are available.
LOCATION:Innovation Center Stoughton\, 421 E Main Street\, Stoughton
UID:e.3020.14261
SEQUENCE:3
DTSTAMP:20260423T152541Z
URL:https://www.stoughtonwi.com/events/details/2-week-summer-steam-camp-with-art-emphasis-14261
END:VEVENT

END:VCALENDAR
