BEGIN:VCALENDAR
VERSION:2.0
PRODID:-//ChamberMaster//Event Calendar 2.0//EN
METHOD:PUBLISH
X-PUBLISHED-TTL:P3D
REFRESH-INTERVAL:P3D
CALSCALE:GREGORIAN
BEGIN:VEVENT
DTSTART:20240710T180000Z
DTEND:20240710T190000Z
X-MICROSOFT-CDO-ALLDAYEVENT:FALSE
SUMMARY:American Art with Michael Hecht
DESCRIPTION:Hecht's personal dialogue will include photographers and muralists\, with painters Wyeth\, Benton and Whistler. This program is generously sponsored by Skaalen Retirement Services and Farris Auto.
X-ALT-DESC;FMTTYPE=text/html:Hecht&rsquo\;s personal dialogue will include photographers and muralists\, with painters Wyeth\, Benton and Whistler. This program is generously sponsored by Skaalen Retirement Services and Farris Auto.&nbsp\;
LOCATION:Stoughton Area Senior Center 248 W. Main St.
UID:e.3020.11938
SEQUENCE:3
DTSTAMP:20260420T063903Z
URL:https://www.stoughtonwi.com/events/details/american-art-with-michael-hecht-11938
END:VEVENT

END:VCALENDAR
