BEGIN:VCALENDAR
VERSION:2.0
PRODID:-//ChamberMaster//Event Calendar 2.0//EN
METHOD:PUBLISH
X-PUBLISHED-TTL:P3D
REFRESH-INTERVAL:P3D
CALSCALE:GREGORIAN
BEGIN:VEVENT
DTSTART:20240511T150000Z
DTEND:20240511T180000Z
X-MICROSOFT-CDO-ALLDAYEVENT:FALSE
SUMMARY:Antiques Appraisals with Mark Moran at the Library
DESCRIPTION:Professional antiques appraiser Mark Moran will visit the library to appraise your family heirlooms! Space is limited and registration is required\, beginning Monday\, April 22 at 9am. Please call 608-873-6281 to register. You must read the list of what Mark can and cannot appraise at stolib.org/ant24 before registering. If you're only attending to watch the appraisals\, you don't need to register come and enjoy!
X-ALT-DESC;FMTTYPE=text/html:<span style="font-size:12.0pt">Professional antiques appraiser Mark Moran will visit the library to appraise your family heirlooms! Space is limited and registration is required\, beginning Monday\, April 22 at 9am. Please call 608-873-6281 to register. <strong>You must read the list of what Mark can and cannot appraise at stolib.org/ant24</strong> <strong>before registering.</strong> If you&rsquo\;re only attending to watch the appraisals\, you don&rsquo\;t need to register&mdash\;come and enjoy!</span><br />\n&nbsp\;
LOCATION:Stoughton Public Library
UID:e.3020.11831
SEQUENCE:3
DTSTAMP:20260420T011434Z
URL:https://www.stoughtonwi.com/events/details/antiques-appraisals-with-mark-moran-at-the-library-11831
END:VEVENT

END:VCALENDAR
