BEGIN:VCALENDAR
VERSION:2.0
PRODID:-//ChamberMaster//Event Calendar 2.0//EN
METHOD:PUBLISH
X-PUBLISHED-TTL:P3D
REFRESH-INTERVAL:P3D
CALSCALE:GREGORIAN
BEGIN:VEVENT
DTSTART:20240726T180000Z
DTEND:20240726T210000Z
X-MICROSOFT-CDO-ALLDAYEVENT:FALSE
SUMMARY:Behavioral Health Resource Center Walk-In Appointments
DESCRIPTION:Resource Specialists from the Dane County Behavioral Health Resource Center (BHRC) will be at Stoughton Library to help you find and connect with mental health and substance use services. Walk-in appointments are available in the library's top floor Meeting Room #1 anytime between 1:00pm   4:00pm. If you're looking for therapy\, case management\, substance use resources and more\, speak with staff from the BHRC who will help get you started. Participation is completely free\; all ages welcome.
X-ALT-DESC;FMTTYPE=text/html:<span style="font-size:12.0pt">Resource Specialists from the Dane County Behavioral Health Resource Center (BHRC) will be at Stoughton Library to help you find and connect with mental health and substance use services. Walk-in appointments are available in the library&#39\;s top floor Meeting Room #1 anytime between 1:00pm &ndash\; 4:00pm. If you&rsquo\;re looking for therapy\, case management\, substance use resources and more\, speak with staff from the BHRC who will help get you started. Participation is completely free\; all ages welcome.</span><br />\n&nbsp\;
LOCATION:Stoughton Public Library top floor Meeting Room #1
UID:e.3020.11953
SEQUENCE:3
DTSTAMP:20260420T040435Z
URL:https://www.stoughtonwi.com/events/details/behavioral-health-resource-center-walk-in-appointments-11953
END:VEVENT

END:VCALENDAR
