BEGIN:VCALENDAR
VERSION:2.0
PRODID:-//ChamberMaster//Event Calendar 2.0//EN
METHOD:PUBLISH
X-PUBLISHED-TTL:P3D
REFRESH-INTERVAL:P3D
CALSCALE:GREGORIAN
BEGIN:VEVENT
DTSTART:20240821T180000Z
DTEND:20240821T200000Z
X-MICROSOFT-CDO-ALLDAYEVENT:FALSE
SUMMARY:Bingo
DESCRIPTION:No registration required\, come join the fun! Held on the main floor. Sponsored by Moments Hospice.
X-ALT-DESC;FMTTYPE=text/html:No registration required\, come join the fun! Held on the main floor. Sponsored by Moments Hospice.
LOCATION:Stoughton Area Senior Center 248 W. Main St. Stoughton WI
UID:e.3020.11963
SEQUENCE:3
DTSTAMP:20260420T234131Z
URL:https://www.stoughtonwi.com/events/details/bingo-08-21-2024-11963
END:VEVENT

END:VCALENDAR
