BEGIN:VCALENDAR
VERSION:2.0
PRODID:-//ChamberMaster//Event Calendar 2.0//EN
METHOD:PUBLISH
X-PUBLISHED-TTL:P3D
REFRESH-INTERVAL:P3D
CALSCALE:GREGORIAN
BEGIN:VEVENT
DTSTART:20240723T150000Z
DTEND:20240723T170000Z
X-MICROSOFT-CDO-ALLDAYEVENT:FALSE
SUMMARY:Card Making Class
DESCRIPTION:Make cards with fun\, new techniques and products. Barb Daubner will guide you through three different greeting card designs. All supplies are included. Cost: $6. Please reserve your spot at the reception desk or by calling 608-873-8585.
X-ALT-DESC;FMTTYPE=text/html:Make cards with fun\, new techniques and products. Barb Daubner will guide you through three different greeting card designs. All supplies are included. Cost: $6. Please reserve your spot at the reception desk or by calling 608-873-8585.
LOCATION:Stoughton Area Senior Center 248 W. Main St.
UID:e.3020.11943
SEQUENCE:3
DTSTAMP:20260420T063754Z
URL:https://www.stoughtonwi.com/events/details/card-making-class-07-23-2024-11943
END:VEVENT

END:VCALENDAR
