BEGIN:VCALENDAR
VERSION:2.0
PRODID:-//ChamberMaster//Event Calendar 2.0//EN
METHOD:PUBLISH
X-PUBLISHED-TTL:P3D
REFRESH-INTERVAL:P3D
CALSCALE:GREGORIAN
BEGIN:VEVENT
DTSTART:20240619T223000Z
DTEND:20240620T000000Z
X-MICROSOFT-CDO-ALLDAYEVENT:FALSE
SUMMARY:City Band Concert and Ice Cream Social
DESCRIPTION:City Band Concert and Ice Cream Social Wednesday\, June 19\, 5:30 PM Carl Sampson Park\n\n\n\nEnjoy a lovely evening on the riverfront while listening to our City Band\, socializing\, and eating ice cream! The social starts at 5:30 PM and the band will play at 6:00 PM. The ice cream is sponsored by Skaalen Retirement Services. Carl Sampson Park is the strip of park next to the Senior Center on the river. Please bring a chair.
X-ALT-DESC;FMTTYPE=text/html:City Band Concert and Ice Cream Social Wednesday\, June 19\, 5:30 PM Carl Sampson Park<br />\n<br />\nEnjoy a lovely evening on the riverfront while listening to our City Band\, socializing\, and eating ice cream! The social starts at 5:30 PM and the band will play at 6:00 PM. The ice cream is sponsored by Skaalen Retirement Services. Carl Sampson Park is the strip of park next to the Senior Center on the river. Please bring a chair.
LOCATION:Carl Sampson Park\, by the Senior Center
UID:e.3020.11888
SEQUENCE:3
DTSTAMP:20260420T023403Z
URL:https://www.stoughtonwi.com/events/details/city-band-concert-and-ice-cream-social-11888
END:VEVENT

END:VCALENDAR
