BEGIN:VCALENDAR
VERSION:2.0
PRODID:-//ChamberMaster//Event Calendar 2.0//EN
METHOD:PUBLISH
X-PUBLISHED-TTL:P3D
REFRESH-INTERVAL:P3D
CALSCALE:GREGORIAN
BEGIN:VEVENT
DTSTART:20240412T150000Z
DTEND:20240412T160000Z
X-MICROSOFT-CDO-ALLDAYEVENT:FALSE
SUMMARY:Coffee with the Mayor
DESCRIPTION:Join Stoughton Mayor Tim Swadley for his monthly meeting with the public at the Senior Center. All are welcome! Held in the Annex.
X-ALT-DESC;FMTTYPE=text/html:Join Stoughton Mayor Tim Swadley for his monthly meeting with the public at the Senior Center. All are welcome! Held in the Annex.
LOCATION:Stoughton Area Senior Center 248 W. Main St.
UID:e.3020.11806
SEQUENCE:3
DTSTAMP:20260420T010846Z
URL:https://www.stoughtonwi.com/events/details/coffee-with-the-mayor-04-12-2024-11806
END:VEVENT

END:VCALENDAR
