BEGIN:VCALENDAR
VERSION:2.0
PRODID:-//ChamberMaster//Event Calendar 2.0//EN
METHOD:PUBLISH
X-PUBLISHED-TTL:P3D
REFRESH-INTERVAL:P3D
CALSCALE:GREGORIAN
BEGIN:VEVENT
DTSTART:20211009T023000Z
DTEND:20211009T033000Z
X-MICROSOFT-CDO-ALLDAYEVENT:FALSE
SUMMARY:Coffee with the Mayor
DESCRIPTION:You're invited: Mayor Tim Swadley of the City of Stoughton\, will hold another in-person Coffee with the Mayor meeting on Friday\, October 8\, at 9:30 a.m. at the Stoughton Senior Center.  Join him\, along with Dan DeGroot\, CEO Stoughton Health\, Dr. Tim Onsager SASD Superintendent\, and Sarah Ebert\, Chamber President   to hear about the latest news regarding the city\, hospital\, school district and local businesses.\n\n The meeting will be held in-person at the Stoughton Area Senior Center and virtually.
X-ALT-DESC;FMTTYPE=text/html:<font face="georgia\, times\, times new roman\, serif"><span style="font-size: 16px\;"><strong>You&#39\;re invited:</strong> Mayor Tim Swadley of the City of Stoughton\, will hold another in-person Coffee with the Mayor meeting on Friday\, October 8\, at 9:30 a.m. at the Stoughton Senior Center.&nbsp\; Join him\, along with Dan DeGroot\, CEO Stoughton Health\, Dr. Tim Onsager SASD Superintendent\, and Sarah Ebert\, Chamber President&nbsp\; </span></font><font face="georgia\, times\, times new roman\, serif"><span style="font-size: 16px\;"> to hear about the latest news regarding the city\, hospital\, school district and local businesses.<br />\n&nbsp\;The meeting will be held in-person at the Stoughton Area Senior Center and virtually.</span></font>
LOCATION:Stoughton Senior Center or ZOOM:https://us02web.zoom.us/j/81504176957
UID:e.3020.7253
SEQUENCE:3
DTSTAMP:20260424T173138Z
URL:https://www.stoughtonwi.com/events/details/coffee-with-the-mayor-7253
END:VEVENT

END:VCALENDAR
