BEGIN:VCALENDAR
VERSION:2.0
PRODID:-//ChamberMaster//Event Calendar 2.0//EN
METHOD:PUBLISH
X-PUBLISHED-TTL:P3D
REFRESH-INTERVAL:P3D
CALSCALE:GREGORIAN
BEGIN:VEVENT
DTSTART:20240418T230000Z
DTEND:20240419T010000Z
X-MICROSOFT-CDO-ALLDAYEVENT:FALSE
SUMMARY:Community Focused Shopping Night - Custom Canines
DESCRIPTION:Join us at The Crazy Dog Mom for our Community Focused Shopping Night benefiting Custom Canines.\n\nShop at The Crazy Dog Mom on Thursday\, April 18 from 6pm - 8pm and support Custom Canines.\n\n \n\nThere will be drinks\, light snacks\, a giveaway\, and prizes!\n\n \n\nWe will donate 10%\, 15%\, or 20% of the sales made during the shopping night depending on the total of sales made.\n\n \n\nThe higher the sales\, the higher the donation!\n\n\n\n \n\nCustom Canines is a non-profit organization\, powered by wonderful volunteers\, and dedicated to raising\, training\, and gifting service dogs to military veterans and first responders living with disabilities.\n\n \n\nTheir mission at Custom Canines Service Dog Academy is to help their clients live a life of abundance with the assistance and companionship of a highly trained service dog.
X-ALT-DESC;FMTTYPE=text/html:<div>Join us at The Crazy Dog Mom for our Community Focused Shopping Night benefiting Custom Canines.</div>\n\n<div>Shop at The Crazy Dog Mom on Thursday\, April 18 from 6pm - 8pm and support Custom Canines.<br />\n&nbsp\;</div>\n\n<div>There will be drinks\, light snacks\, a giveaway\, and prizes!<br />\n&nbsp\;</div>\n\n<div>We will donate 10%\, 15%\, or 20% of the sales made during the shopping night depending on the total of sales made.<br />\n&nbsp\;</div>\n\n<div>The higher the sales\, the higher the donation!<br />\n<br />\n&nbsp\;</div>\n\n<div>Custom Canines is a non-profit organization\, powered by wonderful volunteers\, and dedicated to raising\, training\, and gifting service dogs to military veterans and first responders living with disabilities.<br />\n&nbsp\;</div>\n\n<div>Their mission at Custom Canines Service Dog Academy is to help their clients live a life of abundance with the assistance and companionship of a highly trained service dog.&nbsp\;</div>\n
LOCATION:The Crazy Dog Mom 161 W Main St\, Stoughton\, WI
UID:e.3020.11813
SEQUENCE:3
DTSTAMP:20260420T010846Z
URL:https://www.stoughtonwi.com/events/details/community-focused-shopping-night-custom-canines-11813
END:VEVENT

END:VCALENDAR
