BEGIN:VCALENDAR
VERSION:2.0
PRODID:-//ChamberMaster//Event Calendar 2.0//EN
METHOD:PUBLISH
X-PUBLISHED-TTL:P3D
REFRESH-INTERVAL:P3D
CALSCALE:GREGORIAN
BEGIN:VEVENT
DTSTART:20240523T180000Z
DTEND:20240523T190000Z
X-MICROSOFT-CDO-ALLDAYEVENT:FALSE
SUMMARY:Container Gardening
DESCRIPTION:Does gardening in the ground present challenges for you? Join David Bachhuber\, owner of local CSA Lovefood Farm\, to learn about container gardening. David started his gardening career in a 5 gallon bucket on a fire escape! He will share what plants thrive in containers and give tips about caring for container plants. You will also learn about CSA's (Community Supported Agriculture). Participants will be able to take home a seedling of a container-friendly plant. Space is limited so please register for this free class by calling 608-873-8585. Held in the Annex.
X-ALT-DESC;FMTTYPE=text/html:Does gardening in the ground present challenges for you? Join David Bachhuber\, owner of local CSA Lovefood Farm\, to learn about container gardening. David started his gardening career in a 5 gallon bucket on a fire escape! He will share what plants thrive in containers and give tips about caring for container plants. You will also learn about CSA&rsquo\;s (Community Supported Agriculture). Participants will be able to take home a seedling of a container-friendly plant. Space is limited so please register for this free class by calling 608-873-8585. Held in the Annex.
LOCATION:Stoughton Area Senior Center 248 W. Main St.
UID:e.3020.11846
SEQUENCE:3
DTSTAMP:20260420T022000Z
URL:https://www.stoughtonwi.com/events/details/container-gardening-05-23-2024-11846
END:VEVENT

END:VCALENDAR
