BEGIN:VCALENDAR
VERSION:2.0
PRODID:-//ChamberMaster//Event Calendar 2.0//EN
METHOD:PUBLISH
X-PUBLISHED-TTL:P3D
REFRESH-INTERVAL:P3D
CALSCALE:GREGORIAN
BEGIN:VEVENT
DTSTART:20240508T180000Z
DTEND:20240508T190000Z
X-MICROSOFT-CDO-ALLDAYEVENT:FALSE
SUMMARY:Cooking with Kim
DESCRIPTION:Join our Nutrition Coordinator\, Kim Whitford\, for a hands on cooking class. This month you will learn about homemade dips and salad dressings for warmer weather! Space is limited\, so please RSVP at the front desk or by calling 608-873-8585.
X-ALT-DESC;FMTTYPE=text/html:Join our Nutrition Coordinator\, Kim Whitford\, for a hands&ndash\;on cooking class. This month you will learn about homemade dips and salad dressings for warmer weather! Space is limited\, so please RSVP at the front desk or by calling 608-873-8585.
LOCATION:Stoughton Area Senior Center 248 W. Main St.
UID:e.3020.11839
SEQUENCE:3
DTSTAMP:20260420T023056Z
URL:https://www.stoughtonwi.com/events/details/cooking-with-kim-05-08-2024-11839
END:VEVENT

END:VCALENDAR
