BEGIN:VCALENDAR
VERSION:2.0
PRODID:-//ChamberMaster//Event Calendar 2.0//EN
METHOD:PUBLISH
X-PUBLISHED-TTL:P3D
REFRESH-INTERVAL:P3D
CALSCALE:GREGORIAN
BEGIN:VEVENT
DTSTART:20240517T153000Z
DTEND:20240517T163000Z
X-MICROSOFT-CDO-ALLDAYEVENT:FALSE
SUMMARY:Den (ikke så dårlige) Norske Viseklubben - The (not too bad) Norwegian Folk Singing Group
DESCRIPTION:Get into the spirit of Syttende Mai! This group of 3 men and 3 women will sing well-known Norwegian folk songs in Norwegian. There will be handouts so you can sing along! You can enjoy fiddle\, guitar\, flute and other instruments.
X-ALT-DESC;FMTTYPE=text/html:Get into the spirit of Syttende Mai! This group of 3 men and 3 women will sing well-known Norwegian folk songs in Norwegian. There will be handouts so you can sing along! You can enjoy fiddle\, guitar\, flute and other instruments.
LOCATION:Stoughton Area Senior Center 248 W. Main St.
UID:e.3020.11844
SEQUENCE:3
DTSTAMP:20260420T023231Z
URL:https://www.stoughtonwi.com/events/details/den-ikke-s&#229;-d&#229;rlige-norske-viseklubben-the-not-too-bad-norwegian-folk-singing-group-11844
END:VEVENT

END:VCALENDAR
