BEGIN:VCALENDAR
VERSION:2.0
PRODID:-//ChamberMaster//Event Calendar 2.0//EN
METHOD:PUBLISH
X-PUBLISHED-TTL:P3D
REFRESH-INTERVAL:P3D
CALSCALE:GREGORIAN
BEGIN:VEVENT
DTSTART:20240411T230000Z
DTEND:20240412T000000Z
X-MICROSOFT-CDO-ALLDAYEVENT:FALSE
SUMMARY:DIY Dog Bandana Workshop
DESCRIPTION:Join us in making a fun DIY dog bandana! We will have refreshments and in-store specials!\n\nCost: $20\n\nWhat's included in your ticket?\n\n  everything needed to make a dog bandana including the bandana and iron-on embelishments\n\n  instruction on how to make the bandana*\n\n  refreshments\n\n  special discount on purchases made during the workshop\n\n \n\nPlease leave your dog(s) at home during this workshop.\n\n*This is for a tie-on bandana\n\n\n\nWHEN: Thursday\, April 11 at 6-7pm\n\nWHERE: The Crazy Dog Mom 161 W Main St\, Stoughton\, WI 53589
X-ALT-DESC;FMTTYPE=text/html:<p>Join us in making a fun DIY dog bandana! We will have refreshments and in-store specials!</p>\n\n<p>Cost: $20</p>\n\n<div>What&#39\;s included in your ticket?<br />\n&bull\; everything needed to make a dog bandana including the bandana and iron-on embelishments<br />\n&bull\; instruction on how to make the bandana*<br />\n&bull\; refreshments<br />\n&bull\; special discount&nbsp\;on purchases made during the workshop</div>\n\n<div>&nbsp\;</div>\n\n<p>Please leave your dog(s) at home during this workshop.</p>\n\n<p>*This is for a tie-on bandana<br />\n<br />\nWHEN: Thursday\, April 11 at 6-7pm<br />\nWHERE: The Crazy Dog Mom 161 W Main St\, Stoughton\, WI 53589</p>\n
LOCATION:The Crazy Dog Mom 161 W Main St\, Stoughton\, WI 53589
UID:e.3020.11787
SEQUENCE:3
DTSTAMP:20260420T010742Z
URL:https://www.stoughtonwi.com/events/details/diy-dog-bandana-workshop-11787
END:VEVENT

END:VCALENDAR
