BEGIN:VCALENDAR
VERSION:2.0
PRODID:-//ChamberMaster//Event Calendar 2.0//EN
METHOD:PUBLISH
X-PUBLISHED-TTL:P3D
REFRESH-INTERVAL:P3D
CALSCALE:GREGORIAN
BEGIN:VEVENT
DTSTART:20240523T230000Z
DTEND:20240524T000000Z
X-MICROSOFT-CDO-ALLDAYEVENT:FALSE
SUMMARY:DIY Dog Leash Holder Workshop
DESCRIPTION:Come learn how to make a paw print dog leash holder!\n\nCost: $20\n\nWhat's included in your ticket?\n\n  everything needed to make a dog leash holder\n\n  instruction on how to make the leash holder\n\n  special discount on purchases made during the workshop\n\n \n\nPlease leave your dog(s) at home during this workshop.\n\n\n\nTickets can be purchased online or in store\n\n\n\nWHEN: Thursday\, May 23 at 6-7pm\n\nWHERE: The Crazy Dog Mom 161 W Main St\, Stoughton\, WI 53589
X-ALT-DESC;FMTTYPE=text/html:<p>Come learn how to make a paw print dog leash holder!</p>\n\n<p>Cost: $20</p>\n\n<div>What&#39\;s included in your ticket?<br />\n&bull\; everything needed to make a dog leash holder<br />\n&bull\; instruction on how to make the leash holder<br />\n&bull\; special discount on purchases made during the workshop</div>\n\n<div>&nbsp\;</div>\n\n<p>Please leave your dog(s) at home during this workshop.<br />\n<br />\nTickets can be purchased online or in store<br />\n<br />\nWHEN: Thursday\, May 23 at 6-7pm<br />\nWHERE: The Crazy Dog Mom 161 W Main St\, Stoughton\, WI 53589</p>\n
LOCATION:The Crazy Dog Mom 161 W Main St\, Stoughton\, WI 53589
UID:e.3020.11826
SEQUENCE:3
DTSTAMP:20260420T021819Z
URL:https://www.stoughtonwi.com/events/details/diy-dog-leash-holder-workshop-11826
END:VEVENT

END:VCALENDAR
