BEGIN:VCALENDAR
VERSION:2.0
PRODID:-//ChamberMaster//Event Calendar 2.0//EN
METHOD:PUBLISH
X-PUBLISHED-TTL:P3D
REFRESH-INTERVAL:P3D
CALSCALE:GREGORIAN
BEGIN:VEVENT
DTSTART:20240511T150000Z
DTEND:20240511T230000Z
X-MICROSOFT-CDO-ALLDAYEVENT:FALSE
SUMMARY:Dog Mom's Day Celebration
DESCRIPTION:Celebrate Dog Mom's Day with us!\n\n \n\nDog Mom's Day is an official holiday and it lands on the day before Mother's Day. This year it's on Saturday\, May 11.\n\n \n\nStop in at The Crazy Dog Mom to sip on non-alcoholic mimosas while you shop.\n\n \n\nDon't forget to snap a picture with your dog at our photo backdrop and make it even more special by grabbing a matching dog bandana and scrunchy set so you both can match for your photo!\n\n \n\nAt checkout\, you'll get a chance to win something special like a discount\, gift certificate\, or free treats when you play our Punch-A-Bunch game
X-ALT-DESC;FMTTYPE=text/html:<div>Celebrate Dog Mom&#39\;s Day with us!<br />\n&nbsp\;</div>\n\n<div>Dog Mom&#39\;s Day is an official holiday and it lands on the day before Mother&#39\;s Day. This year it&#39\;s on Saturday\, May 11.<br />\n&nbsp\;</div>\n\n<div>Stop in at The Crazy Dog Mom to sip on non-alcoholic mimosas while you shop.<br />\n&nbsp\;</div>\n\n<div>Don&#39\;t forget to snap a picture with your dog at our photo backdrop and make it even more special by grabbing a matching dog bandana and scrunchy set so you both can match for your photo!<br />\n&nbsp\;</div>\n\n<div>At checkout\, you&#39\;ll get a chance to win something special like a discount\, gift certificate\, or free treats when you play our Punch-A-Bunch game</div>\n
LOCATION:The Crazy Dog Mom 161 W Main St\, Stoughton\, WI
UID:e.3020.11873
SEQUENCE:3
DTSTAMP:20260420T022834Z
URL:https://www.stoughtonwi.com/events/details/dog-mom-s-day-celebration-11873
END:VEVENT

END:VCALENDAR
