BEGIN:VCALENDAR
VERSION:2.0
PRODID:-//ChamberMaster//Event Calendar 2.0//EN
METHOD:PUBLISH
X-PUBLISHED-TTL:P3D
REFRESH-INTERVAL:P3D
CALSCALE:GREGORIAN
BEGIN:VEVENT
DTSTART:20240411T190000Z
DTEND:20240411T210000Z
X-MICROSOFT-CDO-ALLDAYEVENT:FALSE
SUMMARY:Edgewood Nursing Students
DESCRIPTION:Nursing students from Edgewood will be here as part of their classwork. Help them by signing up for a 20-30 minute time slot to meet with one of them. During your session\, you can get a blood pressure and heart rate check\, discuss fall hazards that might be in your home\, talk about safe exercises\, or ways to stay healthy.\n\n\n\nTo schedule your appointment\, call the Senior Center at 608-873-8585.
X-ALT-DESC;FMTTYPE=text/html:Nursing students from Edgewood will be here as part of their classwork. Help them by signing up for a 20-30 minute time slot to meet with one of them. During your session\, you can get a blood pressure and heart rate check\, discuss fall hazards that might be in your home\, talk about safe exercises\, or ways to stay healthy.<br />\n<br />\nTo schedule your appointment\, call the Senior Center at 608-873-8585.
LOCATION:Stoughton Area Senior Center 248 W. Main St.
UID:e.3020.11803
SEQUENCE:3
DTSTAMP:20260420T010630Z
URL:https://www.stoughtonwi.com/events/details/edgewood-nursing-students-11803
END:VEVENT

END:VCALENDAR
