BEGIN:VCALENDAR
VERSION:2.0
PRODID:-//ChamberMaster//Event Calendar 2.0//EN
METHOD:PUBLISH
X-PUBLISHED-TTL:P3D
REFRESH-INTERVAL:P3D
CALSCALE:GREGORIAN
BEGIN:VEVENT
DTSTART:20240503T233000Z
DTEND:20240504T013000Z
X-MICROSOFT-CDO-ALLDAYEVENT:FALSE
SUMMARY:Fendrick and Peck Concert
DESCRIPTION:Join Madeline and Brian (Fendrick & Peck)\, and their two littles as they make their way from Minnesota to Maine and back. This tour is more than a string of shows in different cities every night: it's a journey of the heart where they will be connecting with new and old friends\, both human and otherwise. It'll be shows at favorite places and space to dream\, make art\, and be. Travel along and meet up with us on the way! Relish all that life has to offer this summer. Slow down and reconnect with the world!\n\n\n\nThey will be at Sons of Norway Mandt Lodge on Friday\, May 3\, at 6:30 PM. $20 suggested donation.
X-ALT-DESC;FMTTYPE=text/html:Join Madeline and Brian (Fendrick &amp\; Peck)\, and their two littles as they make their way from Minnesota to Maine and back. This tour is more than a string of shows in different cities every night: it&rsquo\;s a journey of the heart where they will be connecting with new and old friends\, both human and otherwise. It&rsquo\;ll be shows at favorite places and space to dream\, make art\, and be. Travel along and meet up with us on the way! Relish all that life has to offer this summer. Slow down and reconnect with the world!<br />\n<br />\nThey will be at Sons of Norway Mandt Lodge on Friday\, May 3\, at 6:30 PM. $20 suggested donation.
LOCATION:Sons of Norway 317 South Page St\, Stoughton
UID:e.3020.11857
SEQUENCE:3
DTSTAMP:20260420T022944Z
URL:https://www.stoughtonwi.com/events/details/fendrick-and-peck-concert-11857
END:VEVENT

END:VCALENDAR
