BEGIN:VCALENDAR
VERSION:2.0
PRODID:-//ChamberMaster//Event Calendar 2.0//EN
METHOD:PUBLISH
X-PUBLISHED-TTL:P3D
REFRESH-INTERVAL:P3D
CALSCALE:GREGORIAN
BEGIN:VEVENT
DTSTART;VALUE=DATE:20240308
DTEND;VALUE=DATE:20240309
TRANSP:TRANSPARENT
X-MICROSOFT-CDO-ALLDAYEVENT:TRUE
SUMMARY:Foam Dart Nights
DESCRIPTION:Foam Dart Nights: Children will be introduced to proper safety expectations when playing together. Use your survival skills to dodge oncoming foam darts and hide behind barricades and above all have fun and work together. Play will rotate between capture the goat and survive the maze! \n\n\n	\n	Ages: Kindergarten - 8th Grade (Teams will be based on ages and ability)\n	\n	\n	Times: 6:00-7:30 pm ($10 late fee for children who are not picked up by 7:35 pm)\n	\n	\n	Activities: Safety Meeting\, Team Building\, Target Practice\, Capture the Goat or Maze Craze\n	\n	\n	BRING: Your own device and a Face Shield or Goggles. (children without eye protection will not play)\n	\n	\n	When: March 8th\, April 12th\, May 10th\n	\n	\n	Price: $20 Per Night \n	\n	\n	Price includes 1 snack-granola bar or fruit and grain bar (please bring own water bottle)
X-ALT-DESC;FMTTYPE=text/html:<p><strong>Foam Dart Nights: </strong><span style="background-color:transparent\; color:#000000\; font-family:quicksand\,sans-serif\; font-size:12pt">Children will be introduced to proper safety expectations when playing together. Use your survival skills to dodge oncoming foam darts and hide behind barricades and above all have fun and work together. Play will rotate between capture the goat and survive the maze!&nbsp\;</span></p>\n\n<ul>\n	<li>\n	<p><span style="background-color:transparent\; color:#000000\; font-family:quicksand\,sans-serif\; font-size:12pt">Ages: Kindergarten - 8th Grade </span><em>(Teams will be based on ages and ability)</em></p>\n	</li>\n	<li>\n	<p><span style="background-color:transparent\; color:#000000\; font-family:quicksand\,sans-serif\; font-size:12pt">Times: 6:00-7:30 pm </span><span style="background-color:transparent\; color:#333333\; font-family:quicksand\,sans-serif\; font-size:12pt">($10 late fee for children who are not picked up by 7:35 pm)</span></p>\n	</li>\n	<li>\n	<p><span style="background-color:transparent\; color:#000000\; font-family:quicksand\,sans-serif\; font-size:12pt">Activities: Safety Meeting\, Team Building\, Target Practice\, Capture the Goat or Maze Craze</span></p>\n	</li>\n	<li>\n	<p><span style="background-color:transparent\; color:#000000\; font-family:quicksand\,sans-serif\; font-size:12pt">BRING: Your own device and a Face Shield or Goggles.</span><em> </em><u>(children without eye protection will not play)</u></p>\n	</li>\n	<li>\n	<p><span style="background-color:#c9daf8\; color:#000000\; font-family:quicksand\,sans-serif\; font-size:12pt">When:</span><span style="background-color:#c9daf8\; color:#000000\; font-family:quicksand\,sans-serif\; font-size:12pt"> March 8th\, April 12th\, May 10th</span></p>\n	</li>\n	<li>\n	<p><span style="background-color:transparent\; color:#000000\; font-family:quicksand\,sans-serif\; font-size:12pt">Price: $20 Per Night </span></p>\n	</li>\n	<li>\n	<p><span style="background-color:transparent\; color:#000000\; font-family:quicksand\,sans-serif\; font-size:12pt">Price includes 1 snack-granola bar or fruit and grain bar (please bring own water bottle)</span></p>\n	</li>\n</ul>\n
LOCATION:Imagine Academy 318 S Forrest St Stoughton\, WI 53589
UID:e.3020.11754
SEQUENCE:3
DTSTAMP:20260420T022755Z
URL:https://www.stoughtonwi.com/events/details/foam-dart-nights-11754
END:VEVENT

END:VCALENDAR
