BEGIN:VCALENDAR
VERSION:2.0
PRODID:-//ChamberMaster//Event Calendar 2.0//EN
METHOD:PUBLISH
X-PUBLISHED-TTL:P3D
REFRESH-INTERVAL:P3D
CALSCALE:GREGORIAN
BEGIN:VEVENT
DTSTART:20211015T150000Z
DTEND:20211016T230000Z
X-MICROSOFT-CDO-ALLDAYEVENT:FALSE
SUMMARY:FoSPL Used Book Sale
DESCRIPTION:The Friends of the Stoughton Public Library will be holding a Fall Used Book Sale on October 15   16 at the Christ Lutheran Church in Stoughton. The sale will be open 10 AM to 6 PM on Friday October 15 and from 8 AM to 4 PM on Saturday\, October 16. The sale will include thousands of hard ($2/each) and soft ($1/each) cover books. Parents are encouraged to bring their children to the sale\, which will also include hundreds of children's and teen books\, including picture books. Bag 'O Books deal from 3-4 PM Saturday afternoon. Friends supplies the bag. Fill it with books (from what remains) for just $5.00 Cash and checks will be accepted. The Friends of the Stoughton Public Library is a registered 501(c)3 and book purchases are tax exempt. All attendees\, except children under 5\, must wear masks.
X-ALT-DESC;FMTTYPE=text/html:The Friends of the Stoughton Public Library will be holding a Fall Used Book Sale on October 15 &ndash\; 16 at the Christ Lutheran Church in Stoughton. The sale will be open 10 AM to 6 PM on Friday October 15 and from 8 AM to 4 PM on Saturday\, October 16. The sale will include thousands of hard ($2/each) and soft ($1/each) cover books. Parents are encouraged to bring their children to the sale\, which will also include hundreds of children&rsquo\;s and teen books\, including picture books. Bag &lsquo\;O Books deal from 3-4 PM Saturday afternoon. Friends supplies the bag. Fill it with books (from what remains) for just $5.00 Cash and checks will be accepted. The Friends of the Stoughton Public Library is a registered 501(c)3 and book purchases are tax exempt. All attendees\, except children under 5\, must wear masks.
LOCATION:Christ Lutheran Church 700 County Road B\, Stoughton WI
UID:e.3020.7292
SEQUENCE:3
DTSTAMP:20260424T173210Z
URL:https://www.stoughtonwi.com/events/details/fospl-used-book-sale-7292
END:VEVENT

END:VCALENDAR
