BEGIN:VCALENDAR
VERSION:2.0
PRODID:-//ChamberMaster//Event Calendar 2.0//EN
METHOD:PUBLISH
X-PUBLISHED-TTL:P3D
REFRESH-INTERVAL:P3D
CALSCALE:GREGORIAN
BEGIN:VEVENT
DTSTART:20211027T180000Z
DTEND:20211027T213000Z
X-MICROSOFT-CDO-ALLDAYEVENT:FALSE
SUMMARY:Free Career Counseling for Ages 18-24
DESCRIPTION:Operation Fresh Start\, in partnership with the Stoughton Area Resource Team\, is offering free career counseling for people ages 18-24. No appointment needed--stop by the library on Wednesdays\, 1-4:30pm\, from now through the end of March 2022.
X-ALT-DESC;FMTTYPE=text/html:Operation Fresh Start\, in partnership with the Stoughton Area Resource Team\, is offering free career counseling for people ages 18-24. No appointment needed--stop by the library on Wednesdays\, 1-4:30pm\, from now through the end of March 2022.
LOCATION:Stoughton Public Library
UID:e.3020.7310
SEQUENCE:3
DTSTAMP:20260424T160701Z
URL:https://www.stoughtonwi.com/events/details/free-career-counseling-for-ages-18-24-10-27-2021-7310
END:VEVENT

END:VCALENDAR
