BEGIN:VCALENDAR
VERSION:2.0
PRODID:-//ChamberMaster//Event Calendar 2.0//EN
METHOD:PUBLISH
X-PUBLISHED-TTL:P3D
REFRESH-INTERVAL:P3D
CALSCALE:GREGORIAN
BEGIN:VEVENT
DTSTART:20240504T140000Z
DTEND:20240504T214500Z
X-MICROSOFT-CDO-ALLDAYEVENT:FALSE
SUMMARY:Free Comic Book Day and Star Wars Day at the Library
DESCRIPTION:This year\, Free Comic Book Day and Star Wars Day (May the Fourth Be With You) fall on the same day! Stop by the Children's Department for free children's comics and take-home Star Wars activities. Adults and Teens\, we'll have comics and activities for you on the top floor. Many thanks to Westfield Comics for allowing us to purchase comics through them to share with our patrons for free! No registration required\, but you can sign up for an email or text reminder if you like: https://stoughtonpubliclibrary.evanced.info/signup/EventDetails?EventId=153
X-ALT-DESC;FMTTYPE=text/html:<span style="font-size:12.0pt">This year\, Free Comic Book Day and Star Wars Day (May the Fourth Be With You) fall on the same day! Stop by the Children&rsquo\;s Department for free children&rsquo\;s comics and take-home Star Wars activities. Adults and Teens\, we&rsquo\;ll have comics and activities for you on the top floor. Many thanks to Westfield Comics for allowing us to purchase comics through them to share with our patrons for free! No registration required\, but you can sign up for an email or text reminder if you like: https://stoughtonpubliclibrary.evanced.info/signup/EventDetails?EventId=153</span><br />\n&nbsp\;
LOCATION:Stoughton Public Library
UID:e.3020.11828
SEQUENCE:3
DTSTAMP:20260420T023218Z
URL:https://www.stoughtonwi.com/events/details/free-comic-book-day-and-star-wars-day-at-the-library-11828
END:VEVENT

END:VCALENDAR
