BEGIN:VCALENDAR
VERSION:2.0
PRODID:-//ChamberMaster//Event Calendar 2.0//EN
METHOD:PUBLISH
X-PUBLISHED-TTL:P3D
REFRESH-INTERVAL:P3D
CALSCALE:GREGORIAN
BEGIN:VEVENT
DTSTART:20240730T233000Z
DTEND:20240731T010000Z
X-MICROSOFT-CDO-ALLDAYEVENT:FALSE
SUMMARY:FREE Movie Night
DESCRIPTION:The StoughtonCARES Coalition in partnership with Stoughton's Park and Rec will be hosting a FREE Movie Night on July 30th in East Side Park! The movie\, Elemental\, will begin at 6:30 pm! Free Popcorn\, Chips and Water will be available! Please bring your OWN chairs and blankets and come enjoy the film!
X-ALT-DESC;FMTTYPE=text/html:The StoughtonCARES Coalition in partnership with Stoughton&#39\;s Park and Rec will be hosting a FREE Movie Night on July 30th in East Side Park! The movie\, Elemental\, will begin at 6:30 pm! Free Popcorn\, Chips and Water will be available! Please bring your OWN chairs and blankets and come enjoy the film!
LOCATION:East Side Park
UID:e.3020.11965
SEQUENCE:3
DTSTAMP:20260420T075202Z
URL:https://www.stoughtonwi.com/events/details/free-movie-night-11965
END:VEVENT

END:VCALENDAR
