BEGIN:VCALENDAR
VERSION:2.0
PRODID:-//ChamberMaster//Event Calendar 2.0//EN
METHOD:PUBLISH
X-PUBLISHED-TTL:P3D
REFRESH-INTERVAL:P3D
CALSCALE:GREGORIAN
BEGIN:VEVENT
DTSTART:20240403T173000Z
DTEND:20240403T190000Z
X-MICROSOFT-CDO-ALLDAYEVENT:FALSE
SUMMARY:Freedom Through Forgiveness
DESCRIPTION:Not being able to forgive can lead to pain in many areas of our lives. We know we should forgive\, we want to forgive\, but how? Join instructor Tim Markle to learn methods of working toward forgiveness and learning to live a forgiving life.\n\n\n\nTo register for this six week class\, please go to stoughtonhealth.com and click on "Classes & Events." Questions? Please call (608) 877-3498. Sponsored by Stoughton Health\, and held at the Senior Center.
X-ALT-DESC;FMTTYPE=text/html:Not being able to forgive can lead to pain in many areas of our lives. We know we should forgive\, we want to forgive\, but how? Join instructor Tim Markle to learn methods of working toward forgiveness and learning to live a forgiving life.<br />\n<br />\nTo register for this six week class\, please go to stoughtonhealth.com and click on &ldquo\;Classes &amp\; Events.&rdquo\; Questions? Please call (608) 877-3498. Sponsored by Stoughton Health\, and held at the Senior Center.
LOCATION:Stoughton Area Senior Center 248 W. Main St.
UID:e.3020.11800
SEQUENCE:3
DTSTAMP:20260419T234724Z
URL:https://www.stoughtonwi.com/events/details/freedom-through-forgiveness-04-03-2024-11800
END:VEVENT

END:VCALENDAR
