BEGIN:VCALENDAR
VERSION:2.0
PRODID:-//ChamberMaster//Event Calendar 2.0//EN
METHOD:PUBLISH
X-PUBLISHED-TTL:P3D
REFRESH-INTERVAL:P3D
CALSCALE:GREGORIAN
BEGIN:VEVENT
DTSTART:20240620T200000Z
DTEND:20240621T020000Z
X-MICROSOFT-CDO-ALLDAYEVENT:FALSE
SUMMARY:Ladies Night Out : A Good Time for a Great Cause
DESCRIPTION:Stoughton's 2024   Ladies Night Out: "A Good Time for a Great Cause" \n\n\n\nJoin us for Stoughton's 224 Ladies Night Out hosted by Christ Lutheran Church.\n\nWith over 30 businesses participating\, shoppers can expect special promotions\, goody bags\, along with over 50 prizes that participants can win. 100% of the Proceeds go to START\, Seniors In Need and Stoughton Resettlement.\n\n\n\nThursday\, June 20th 3:00   9:00 p.m. Tickets are $25 First 50 tickets are 2 for 1 and sold ONLY at Christ Lutheran beginning Tuesday\, May 28 at 9:00 a.m. Christ Lutheran: 608-873-9353
X-ALT-DESC;FMTTYPE=text/html:<span style="color: rgb(34\, 34\, 34)\; font-family: sans-serif\; font-size: 13.3333px\;">&nbsp\;Stoughton&rsquo\;s 2024 &ndash\; Ladies Night Out: &ldquo\;A Good Time for a Great Cause&rdquo\;&nbsp\;<br />\n<br />\nJoin us for Stoughton&#39\;s 224 Ladies Night Out hosted by Christ Lutheran Church.<br />\nWith over 30 businesses participating\, shoppers can expect special promotions\, goody bags\, along with over 50 prizes that participants can win. 100% of the Proceeds go to START\, Seniors In Need and Stoughton Resettlement.<br />\n<br />\nThursday\, June 20th 3:00 &ndash\; 9:00 p.m. Tickets are $25 First 50 tickets are 2 for 1 and sold ONLY at Christ Lutheran beginning Tuesday\, May 28 at 9:00 a.m. Christ Lutheran: 608-873-9353</span>
LOCATION:Christ Lutheran Church
UID:e.3020.11924
SEQUENCE:3
DTSTAMP:20260420T040521Z
URL:https://www.stoughtonwi.com/events/details/ladies-night-out-a-good-time-for-a-great-cause-11924
END:VEVENT

END:VCALENDAR
