BEGIN:VCALENDAR
VERSION:2.0
PRODID:-//ChamberMaster//Event Calendar 2.0//EN
METHOD:PUBLISH
X-PUBLISHED-TTL:P3D
REFRESH-INTERVAL:P3D
CALSCALE:GREGORIAN
BEGIN:VEVENT
DTSTART:20211005T233000Z
DTEND:20211006T010000Z
X-MICROSOFT-CDO-ALLDAYEVENT:FALSE
SUMMARY:Lake Kegonsa Through the Years
DESCRIPTION:Barb and Steve Sackett will present the history of Lake Kegonsa and how the first lake has evolved.  Join the historical society's general meeting with stories\, pictures and many memories to be shared.
X-ALT-DESC;FMTTYPE=text/html:Barb and Steve Sackett will present the history of Lake Kegonsa and how the first lake has evolved.&nbsp\; Join the historical society&#39\;s general meeting with stories\, pictures and many memories to be shared.
LOCATION:Sons of Norway Mandt Lodge # 314 317 S Page Street Stoughton
UID:e.3020.5908
SEQUENCE:3
DTSTAMP:20260424T173400Z
URL:https://www.stoughtonwi.com/events/details/lake-kegonsa-through-the-years-5908
END:VEVENT

END:VCALENDAR
