BEGIN:VCALENDAR
VERSION:2.0
PRODID:-//ChamberMaster//Event Calendar 2.0//EN
METHOD:PUBLISH
X-PUBLISHED-TTL:P3D
REFRESH-INTERVAL:P3D
CALSCALE:GREGORIAN
BEGIN:VEVENT
DTSTART:20211023T140000Z
DTEND:20211023T160000Z
X-MICROSOFT-CDO-ALLDAYEVENT:FALSE
SUMMARY:Medication Disposal and Sharps Collection
DESCRIPTION:FREE drive through service. Masks are required for dropping off medication and sharps.   If possible\, bring all medications (including those for pets) in original containers and cross off personal info with black marker   Sharps must be dropped off in a registered sharps container or thick plastic laundry detergent bottle   The Lions/Lioness will be collecting used eye glasses and hearing aids
X-ALT-DESC;FMTTYPE=text/html:FREE drive through service. Masks are required for dropping off medication and sharps. &bull\; If possible\, bring all medications (including those for pets) in original containers and cross off personal info with black marker &bull\; Sharps must be dropped off in a registered sharps container or thick plastic laundry detergent bottle &bull\; The Lions/Lioness will be collecting used eye glasses and hearing aids
LOCATION:Stoughton Fire Department 401 E. Main Street\, Stoughton\, WI 53589
UID:e.3020.7306
SEQUENCE:3
DTSTAMP:20260424T173841Z
URL:https://www.stoughtonwi.com/events/details/medication-disposal-and-sharps-collection-10-23-2021-7306
END:VEVENT

END:VCALENDAR
