BEGIN:VCALENDAR
VERSION:2.0
PRODID:-//ChamberMaster//Event Calendar 2.0//EN
METHOD:PUBLISH
X-PUBLISHED-TTL:P3D
REFRESH-INTERVAL:P3D
CALSCALE:GREGORIAN
BEGIN:VEVENT
DTSTART:20240506T200000Z
DTEND:20240506T210000Z
X-MICROSOFT-CDO-ALLDAYEVENT:FALSE
SUMMARY:Music Appreciation Series - Matthew Koester\, Saxophone
DESCRIPTION:Matthew is currently on the Music Faculty at the UW Madison teaching saxophone. The saxophone is known as a jazz instrument. This program will include a wide range of concert music for that instrument.\n\n\n\nOrganized by John Beutel\, the series is for people who love music and want to learn more about it. The Music Appreciation Series is supported by the Stoughton Area Senior Center\, a grant from the Bryant Foundation and participant donations.
X-ALT-DESC;FMTTYPE=text/html:Matthew is currently on the Music Faculty at the UW Madison teaching saxophone. The saxophone is known as a jazz instrument. This program will include a wide range of concert music for that instrument.<br />\n<br />\nOrganized by John Beutel\, the series is for people who love music and want to learn more about it. The Music Appreciation Series is supported by the Stoughton Area Senior Center\, a grant from the Bryant Foundation and participant donations.
LOCATION:Stoughton Opera House
UID:e.3020.11779
SEQUENCE:3
DTSTAMP:20260420T034141Z
URL:https://www.stoughtonwi.com/events/details/music-appreciation-series-matthew-koester-saxophone-11779
END:VEVENT

END:VCALENDAR
