BEGIN:VCALENDAR
VERSION:2.0
PRODID:-//ChamberMaster//Event Calendar 2.0//EN
METHOD:PUBLISH
X-PUBLISHED-TTL:P3D
REFRESH-INTERVAL:P3D
CALSCALE:GREGORIAN
BEGIN:VEVENT
DTSTART:20240422T200000Z
DTEND:20240422T210000Z
X-MICROSOFT-CDO-ALLDAYEVENT:FALSE
SUMMARY:Music Appreciation Series - SHS Solo/Ensemble Students
DESCRIPTION:These outstanding SHS  instrumental and vocal music students have received starred firsts in Class A at the district music festival and have qualified for the Wisconsin School Music Association State Music Festival.\n\n\n\nOrganized by John Beutel\, the series is for people who love music and want to learn more about it. The Music Appreciation Series is supported by the Stoughton Area Senior Center\, a grant from the Bryant Foundation and participant donations.
X-ALT-DESC;FMTTYPE=text/html:These outstanding SHS&nbsp\; instrumental and vocal music students have received starred firsts in Class A at the district music festival and have qualified for the Wisconsin School Music Association State Music Festival.<br />\n<br />\nOrganized by John Beutel\, the series is for people who love music and want to learn more about it. The Music Appreciation Series is supported by the Stoughton Area Senior Center\, a grant from the Bryant Foundation and participant donations.
LOCATION:Stoughton Opera House
UID:e.3020.11777
SEQUENCE:3
DTSTAMP:20260420T011317Z
URL:https://www.stoughtonwi.com/events/details/music-appreciation-series-shs-solo-ensemble-students-11777
END:VEVENT

END:VCALENDAR
