BEGIN:VCALENDAR
VERSION:2.0
PRODID:-//ChamberMaster//Event Calendar 2.0//EN
METHOD:PUBLISH
X-PUBLISHED-TTL:P3D
REFRESH-INTERVAL:P3D
CALSCALE:GREGORIAN
BEGIN:VEVENT
DTSTART:20240513T200000Z
DTEND:20240513T210000Z
X-MICROSOFT-CDO-ALLDAYEVENT:FALSE
SUMMARY:Music Appreciation Series - The Hunt String Quartet
DESCRIPTION:These professional musicians play in area Symphony Orchestras and other professional ensembles in Southern Wisconsin and teach at various venues.\n\n\n\nOrganized by John Beutel\, the series is for people who love music and want to learn more about it. The Music Appreciation Series is supported by the Stoughton Area Senior Center\, a grant from the Bryant Foundation and participant donations.
X-ALT-DESC;FMTTYPE=text/html:These professional musicians play in area Symphony Orchestras and other professional ensembles in Southern Wisconsin and teach at various venues.<br />\n<br />\nOrganized by John Beutel\, the series is for people who love music and want to learn more about it. The Music Appreciation Series is supported by the Stoughton Area Senior Center\, a grant from the Bryant Foundation and participant donations.
LOCATION:Stoughton Opera House
UID:e.3020.11780
SEQUENCE:3
DTSTAMP:20260420T022837Z
URL:https://www.stoughtonwi.com/events/details/music-appreciation-series-the-hunt-string-quartet-11780
END:VEVENT

END:VCALENDAR
