BEGIN:VCALENDAR
VERSION:2.0
PRODID:-//ChamberMaster//Event Calendar 2.0//EN
METHOD:PUBLISH
X-PUBLISHED-TTL:P3D
REFRESH-INTERVAL:P3D
CALSCALE:GREGORIAN
BEGIN:VEVENT
DTSTART:20240415T200000Z
DTEND:20240415T210000Z
X-MICROSOFT-CDO-ALLDAYEVENT:FALSE
SUMMARY:Music Aprreciation Series - Eric Tran\, Piano
DESCRIPTION:Eric is a faculty member at the UW Madison and teaches piano and other music classes.\n\n\n\nOrganized by John Beutel\, the series is for people who love music and want to learn more about it. The Music Appreciation Series is supported by the Stoughton Area Senior Center\, a grant from the Bryant Foundation and participant donations.
X-ALT-DESC;FMTTYPE=text/html:Eric is a faculty member at the UW Madison and teaches piano and other music classes.<br />\n<br />\nOrganized by John Beutel\, the series is for people who love music and want to learn more about it. The Music Appreciation Series is supported by the Stoughton Area Senior Center\, a grant from the Bryant Foundation and participant donations.
LOCATION:Stoughton Opera House
UID:e.3020.11776
SEQUENCE:3
DTSTAMP:20260420T011442Z
URL:https://www.stoughtonwi.com/events/details/music-aprreciation-series-eric-tran-piano-11776
END:VEVENT

END:VCALENDAR
