BEGIN:VCALENDAR
VERSION:2.0
PRODID:-//ChamberMaster//Event Calendar 2.0//EN
METHOD:PUBLISH
X-PUBLISHED-TTL:P3D
REFRESH-INTERVAL:P3D
CALSCALE:GREGORIAN
BEGIN:VEVENT
DTSTART:20240401T180000Z
DTEND:20240401T200000Z
X-MICROSOFT-CDO-ALLDAYEVENT:FALSE
SUMMARY:Painting Party
DESCRIPTION:Join Instructor Katie Swanson and her assistant as they guide you step by step in creating this bunny picture using acrylic paint. All supplies are provided and all skill levels are welcome. Feel free to bring your own snack or drink.\n\n\n\nSpace is limited\, so reserve your spot by calling 608-873-8585. Held in the Yahara room.
X-ALT-DESC;FMTTYPE=text/html:Join Instructor Katie Swanson and her assistant as they guide you step by step in creating this bunny picture using acrylic paint. All supplies are provided and all skill levels are welcome. Feel free to bring your own snack or drink.<br />\n<br />\nSpace is limited\, so reserve your spot by calling 608-873-8585. Held in the Yahara room.
LOCATION:Stoughton Area Senior Center 248 W. Main St.
UID:e.3020.11799
SEQUENCE:3
DTSTAMP:20260419T234808Z
URL:https://www.stoughtonwi.com/events/details/painting-party-04-01-2024-11799
END:VEVENT

END:VCALENDAR
