BEGIN:VCALENDAR
VERSION:2.0
PRODID:-//ChamberMaster//Event Calendar 2.0//EN
METHOD:PUBLISH
X-PUBLISHED-TTL:P3D
REFRESH-INTERVAL:P3D
CALSCALE:GREGORIAN
BEGIN:VEVENT
DTSTART:20240513T180000Z
DTEND:20240513T200000Z
X-MICROSOFT-CDO-ALLDAYEVENT:FALSE
SUMMARY:Painting Party
DESCRIPTION:Join Instructor Katie Swanson and her assistant as they guide you step by step in creating a butterfly and coneflower picture using acrylic paint. All supplies are provided and all skill levels are welcome. Feel free to bring your own snack or drink. Space is limited\, so reserve your spot by calling 608-873-8585.
X-ALT-DESC;FMTTYPE=text/html:Join Instructor Katie Swanson and her assistant as they guide you step by step in creating a butterfly and coneflower picture using acrylic paint. All supplies are provided and all skill levels are welcome. Feel free to bring your own snack or drink. Space is limited\, so reserve your spot by calling 608-873-8585.
LOCATION:Stoughton Area Senior Center 248 W. Main St.
UID:e.3020.11841
SEQUENCE:3
DTSTAMP:20260420T022235Z
URL:https://www.stoughtonwi.com/events/details/painting-party-05-13-2024-11841
END:VEVENT

END:VCALENDAR
