BEGIN:VCALENDAR
VERSION:2.0
PRODID:-//ChamberMaster//Event Calendar 2.0//EN
METHOD:PUBLISH
X-PUBLISHED-TTL:P3D
REFRESH-INTERVAL:P3D
CALSCALE:GREGORIAN
BEGIN:VEVENT
DTSTART:20240608T153000Z
DTEND:20240608T161500Z
X-MICROSOFT-CDO-ALLDAYEVENT:FALSE
SUMMARY:Perfect Harmony Concert
DESCRIPTION:Join Madison's lesbian\, gay\, bisexual\, transgender and ally TTBB chorus for a morning of music! All Ages. This program is hosted by the Stoughton Public Library\, but held at Virgin Lake Park. Registration is not required\, but sign up for an email reminder if you like: https://events.getlocalhop.com/perfect-harmony-concert/event/IfmB5165UM/
X-ALT-DESC;FMTTYPE=text/html:<span style="color:black"><span style="font-size:12.0pt">Join Madison&rsquo\;s lesbian\, gay\, bisexual\, transgender and ally TTBB chorus for a morning of music! All Ages. This program is hosted by the Stoughton Public Library\, but held at Virgin Lake Park. Registration is not required\, but sign up for an email reminder if you like: </span></span><a href="https://events.getlocalhop.com/perfect-harmony-concert/event/IfmB5165UM/" target="_blank">https://events.getlocalhop.com/perfect-harmony-concert/event/IfmB5165UM/</a><br />\n&nbsp\;
LOCATION:Virgin Lake Park
UID:e.3020.11877
SEQUENCE:3
DTSTAMP:20260420T035520Z
URL:https://www.stoughtonwi.com/events/details/perfect-harmony-concert-11877
END:VEVENT

END:VCALENDAR
