BEGIN:VCALENDAR
VERSION:2.0
PRODID:-//ChamberMaster//Event Calendar 2.0//EN
METHOD:PUBLISH
X-PUBLISHED-TTL:P3D
REFRESH-INTERVAL:P3D
CALSCALE:GREGORIAN
BEGIN:VEVENT
DTSTART:20241101T150000Z
DTEND:20241101T220000Z
X-MICROSOFT-CDO-ALLDAYEVENT:FALSE
SUMMARY:Pranav Sood – I Reap What I Sow
DESCRIPTION:I Reap What I Sow aims to foster ideas of divinity by employing painstakingly rendered patterns and dynamic color palettes to construct a rich stylized iconography. The eighteen paintings serve as a testament to the strength found in vulnerability and the resilience required to navigate life?s complexities. Sood?s art seeks to transform personal struggles into universal narratives\, offering viewers a glimpse into the profound and often tumultuous journey of the human spirit. Using acrylic colors on canvas\, he unfolds chapters of self-perception\, depicting ideas of radical optimism and unwavering determination in the face of trials and tragedies. Born in 1995 in Punjab\, India\, Pranav Sood pursued his passion for art\, earned an MFA in painting from the University of Wisconsin-Madison in 2020\, and moved to New York after graduation.
X-ALT-DESC;FMTTYPE=text/html:I Reap What I Sow aims to foster ideas of divinity by employing painstakingly rendered patterns and dynamic color palettes to construct a rich stylized iconography. The eighteen paintings serve as a testament to the strength found in vulnerability and the resilience required to navigate life?s complexities. Sood?s art seeks to transform personal struggles into universal narratives\, offering viewers a glimpse into the profound and often tumultuous journey of the human spirit. Using acrylic colors on canvas\, he unfolds chapters of self-perception\, depicting ideas of radical optimism and unwavering determination in the face of trials and tragedies. Born in 1995 in Punjab\, India\, Pranav Sood pursued his passion for art\, earned an MFA in painting from the University of Wisconsin-Madison in 2020\, and moved to New York after graduation.
LOCATION:Abel Contemporary Gallery 524 East Main Street Stoughton\, WI 53589
UID:e.3020.12456
SEQUENCE:3
DTSTAMP:20260419T221557Z
URL:https://www.stoughtonwi.com/events/details/pranav-sood-i-reap-what-i-sow-11-01-2024-12456
END:VEVENT

END:VCALENDAR
