BEGIN:VCALENDAR
VERSION:2.0
PRODID:-//ChamberMaster//Event Calendar 2.0//EN
METHOD:PUBLISH
X-PUBLISHED-TTL:P3D
REFRESH-INTERVAL:P3D
CALSCALE:GREGORIAN
BEGIN:VEVENT
DTSTART:20240606T180000Z
DTEND:20240606T190000Z
X-MICROSOFT-CDO-ALLDAYEVENT:FALSE
SUMMARY:Refuse to be a Victim
DESCRIPTION:Refuse to be a Victim Thursday\, June 6\, 1:00 PM The Stoughton Police Department is sharing a monthly series about protecting yourself. Each month covers a different topic! Held in the Annex.
X-ALT-DESC;FMTTYPE=text/html:Refuse to be a Victim Thursday\, June 6\, 1:00 PM The Stoughton Police Department is sharing a monthly series about protecting yourself. Each month covers a different topic! Held in the Annex.
LOCATION:Stoughton Area Senior Center 248 W. Main St. Stoughton
UID:e.3020.11884
SEQUENCE:3
DTSTAMP:20260420T040052Z
URL:https://www.stoughtonwi.com/events/details/refuse-to-be-a-victim-06-06-2024-11884
END:VEVENT

END:VCALENDAR
