BEGIN:VCALENDAR
VERSION:2.0
PRODID:-//ChamberMaster//Event Calendar 2.0//EN
METHOD:PUBLISH
X-PUBLISHED-TTL:P3D
REFRESH-INTERVAL:P3D
CALSCALE:GREGORIAN
BEGIN:VEVENT
DTSTART:20211031T230000Z
DTEND:20211101T010000Z
X-MICROSOFT-CDO-ALLDAYEVENT:FALSE
SUMMARY:Residential Trick or Treating
DESCRIPTION:Stoughton's city-wide residential trick or treating is on Halloween night\, regardless of the night of the week.  Enjoy!
X-ALT-DESC;FMTTYPE=text/html:Stoughton&#39\;s city-wide residential trick or treating is on Halloween night\, regardless of the night of the week.&nbsp\; Enjoy!
LOCATION:City-wide
UID:e.3020.7272
SEQUENCE:3
DTSTAMP:20260420T011150Z
URL:https://www.stoughtonwi.com/events/details/residential-trick-or-treating-7272
END:VEVENT

END:VCALENDAR
