BEGIN:VCALENDAR
VERSION:2.0
PRODID:-//ChamberMaster//Event Calendar 2.0//EN
METHOD:PUBLISH
X-PUBLISHED-TTL:P3D
REFRESH-INTERVAL:P3D
CALSCALE:GREGORIAN
BEGIN:VEVENT
DTSTART:20240815T180000Z
DTEND:20240815T190000Z
X-MICROSOFT-CDO-ALLDAYEVENT:FALSE
SUMMARY:Right-Sizing your Home
DESCRIPTION:Join local realtor\, Joanne DelPizzo\, as she discusses the best strategies for deciding if now is the right time to sell or downsize your home. She'll also provide practical tips on how to get started with decluttering to make your transition smooth and stress-free. Don't miss this informative session!
X-ALT-DESC;FMTTYPE=text/html:Join local realtor\, Joanne DelPizzo\, as she discusses the best strategies for deciding if now is the right time to sell or downsize your home. She&#39\;ll also provide practical tips on how to get started with decluttering to make your transition smooth and stress-free. Don&#39\;t miss this informative session!&nbsp\;&nbsp\;
LOCATION:Stoughton Area Senior Center 248 W. Main St. Stoughton WI
UID:e.3020.11960
SEQUENCE:3
DTSTAMP:20260423T095039Z
URL:https://www.stoughtonwi.com/events/details/right-sizing-your-home-11960
END:VEVENT

END:VCALENDAR
