BEGIN:VCALENDAR
VERSION:2.0
PRODID:-//ChamberMaster//Event Calendar 2.0//EN
METHOD:PUBLISH
X-PUBLISHED-TTL:P3D
REFRESH-INTERVAL:P3D
CALSCALE:GREGORIAN
BEGIN:VEVENT
DTSTART:20230711T204500Z
DTEND:20230711T221500Z
X-MICROSOFT-CDO-ALLDAYEVENT:FALSE
SUMMARY:Safe@Home by Safe Sitter
DESCRIPTION:Students in grades 4-6 learn how to practice safe habits\, how to prevent unsafe situations\, and what to do when faced with dangers such as power failures or weather emergencies. Students are also introduced to the Safe Sitter  First Aid Chart and learn a system to help them assess and respond to injuries and illnesses.
X-ALT-DESC;FMTTYPE=text/html:Students in grades 4-6 learn how to practice safe habits\, how to prevent unsafe situations\, and what to do when faced with dangers such as power failures or weather emergencies. Students are also introduced to the Safe Sitter&reg\; First Aid Chart and learn a system to help them assess and respond to injuries and illnesses.<br />\n<br />\n&nbsp\;
LOCATION:Stoughton Hospital Bryant Health Education Center 900 Ridge Street\, Stoughton
UID:e.3020.10762
SEQUENCE:3
DTSTAMP:20260425T114004Z
URL:https://www.stoughtonwi.com/events/details/safe-home-by-safe-sitter-10762
END:VEVENT

END:VCALENDAR
