BEGIN:VCALENDAR
VERSION:2.0
PRODID:-//ChamberMaster//Event Calendar 2.0//EN
METHOD:PUBLISH
X-PUBLISHED-TTL:P3D
REFRESH-INTERVAL:P3D
CALSCALE:GREGORIAN
BEGIN:VEVENT
DTSTART:20240302T150000Z
DTEND:20240302T204500Z
X-MICROSOFT-CDO-ALLDAYEVENT:FALSE
SUMMARY:Safe Sitter
DESCRIPTION:The Safe Sitter course prepares students in grades 6th-8th to be home alone\, watch younger siblings\, or babysit. This course is designed with interactive lessons that will help students learn life-saving skills\, understand how to handle emergencies and know how to treat injuries.
X-ALT-DESC;FMTTYPE=text/html:The Safe Sitter course prepares students in grades 6th-8th to be home alone\, watch younger siblings\, or babysit. This course is designed with interactive lessons that will help students learn life-saving skills\, understand how to handle emergencies and know how to treat injuries.&nbsp\;
LOCATION:Forest Edge Elementary 4848 Brassica Road\, Fitchburg
UID:e.3020.11748
SEQUENCE:3
DTSTAMP:20260420T022828Z
URL:https://www.stoughtonwi.com/events/details/safe-sitter-03-02-2024-11748
END:VEVENT

END:VCALENDAR
