BEGIN:VCALENDAR
VERSION:2.0
PRODID:-//ChamberMaster//Event Calendar 2.0//EN
METHOD:PUBLISH
X-PUBLISHED-TTL:P3D
REFRESH-INTERVAL:P3D
CALSCALE:GREGORIAN
BEGIN:VEVENT
DTSTART:20291124T160000Z
DTEND:20291124T180000Z
X-MICROSOFT-CDO-ALLDAYEVENT:FALSE
SUMMARY:Shop Small Saturday
DESCRIPTION:Get your free downtown map\, reusable shopping bag\, and list of great shops and restaurants to help you plan your day! You can find us at the City Hall parking lot until the shopping bags are all gone!\n\n\n\n\n\n\n\nThe Chamber of Commerce is your\n\nNeighborhood Champion\n\nfor Small Business Saturday(R) 2020\n\n#AmexSBSChampion
X-ALT-DESC;FMTTYPE=text/html:Get your free downtown map\, reusable shopping bag\, and list of great shops and restaurants to help you plan your day! You can find us at the City Hall parking lot until the shopping bags are all gone!<br />\n<br />\n<br />\n<br />\nThe Chamber of Commerce is your<br />\nNeighborhood Champion<br />\nfor Small Business Saturday<span style="font-size:8px\;">(R)</span>&nbsp\;2020<br />\n#AmexSBSChampion
LOCATION:City Hall Parking Lot
UID:e.3020.5938
SEQUENCE:3
DTSTAMP:20260421T211917Z
URL:https://www.stoughtonwi.com/events/details/shop-small-saturday-11-24-2029-5938
END:VEVENT

END:VCALENDAR
