BEGIN:VCALENDAR
VERSION:2.0
PRODID:-//ChamberMaster//Event Calendar 2.0//EN
METHOD:PUBLISH
X-PUBLISHED-TTL:P3D
REFRESH-INTERVAL:P3D
CALSCALE:GREGORIAN
BEGIN:VEVENT
DTSTART:20240530T230000Z
DTEND:20240531T010000Z
X-MICROSOFT-CDO-ALLDAYEVENT:FALSE
SUMMARY:Shopping Night Benefiting Golden Retriever Rescue of Wisconsin (GRROW)
DESCRIPTION:Join us at The Crazy Dog Mom for our Community Focused Shopping Night benefiting Golden Retriever Rescue of Wisconsin (GRROW).\n\n \n\nShop at The Crazy Dog Mom on Thursday\, May 30 from 6pm - 8pm and support GRROW.\n\n \n\nThere will be drinks\, light snacks\, and a giveaway!\n\n \n\nWe will donate 10%\, 15%\, or 20% of the sales made during the shopping night depending on the total of sales made.\n\n \n\nThe higher the sales\, the higher the donation!\n\n \n\nGRROW's mission is to foster responsible dog ownership and combat the mistreatment and neglect of Golden Retrievers through dedicated rehabilitation and adoption efforts. They are committed to providing humane treatment\, ensuring spaying and neutering\, and rehabilitating these magnificent dogs by placing them in nurturing foster homes.\n\n \n\nThey aim to educate the public about responsible dog ownership\, emphasizing essential aspects such as proper health and nutrition\, spaying and neutering\, effective training\, and fostering good canine citizenship. Moreover\, they actively discourage unwanted and careless breeding practices\, while promoting a culture of compassionate care for all dogs.
X-ALT-DESC;FMTTYPE=text/html:<div>Join us at The Crazy Dog Mom for our Community Focused Shopping Night benefiting Golden Retriever Rescue of Wisconsin (GRROW).<br />\n&nbsp\;</div>\n\n<div>Shop at The Crazy Dog Mom on Thursday\, May 30 from 6pm - 8pm and support GRROW.<br />\n&nbsp\;</div>\n\n<div>There will be drinks\, light snacks\, and a giveaway!<br />\n&nbsp\;</div>\n\n<div>We will donate 10%\, 15%\, or 20% of the sales made during the shopping night depending on the total of sales made.<br />\n&nbsp\;</div>\n\n<div>The higher the sales\, the higher the donation!<br />\n&nbsp\;</div>\n\n<div>GRROW&#39\;s mission is to foster responsible dog ownership and combat the mistreatment and neglect of Golden Retrievers through dedicated rehabilitation and adoption efforts. They are committed to providing humane treatment\, ensuring spaying and neutering\, and rehabilitating these magnificent dogs by placing them in nurturing foster homes.<br />\n&nbsp\;</div>\n\n<div>They aim to educate the public about responsible dog ownership\, emphasizing essential aspects such as proper health and nutrition\, spaying and neutering\, effective training\, and fostering good canine citizenship. Moreover\, they actively discourage unwanted and careless breeding practices\, while promoting a culture of compassionate care for all dogs.</div>\n
LOCATION:The Crazy Dog Mom 161 W Main St\, Stoughton\, WI
UID:e.3020.11874
SEQUENCE:3
DTSTAMP:20260420T023230Z
URL:https://www.stoughtonwi.com/events/details/shopping-night-benefiting-golden-retriever-rescue-of-wisconsin-grrow-11874
END:VEVENT

END:VCALENDAR
