BEGIN:VCALENDAR
VERSION:2.0
PRODID:-//ChamberMaster//Event Calendar 2.0//EN
METHOD:PUBLISH
X-PUBLISHED-TTL:P3D
REFRESH-INTERVAL:P3D
CALSCALE:GREGORIAN
BEGIN:VEVENT
DTSTART;VALUE=DATE:20240727
DTEND;VALUE=DATE:20240728
TRANSP:TRANSPARENT
X-MICROSOFT-CDO-ALLDAYEVENT:TRUE
SUMMARY:Sidewalk Sale
DESCRIPTION:Shop Downtown Stoughton during its annual Sidewalk Sales!
X-ALT-DESC;FMTTYPE=text/html:Shop Downtown Stoughton during its annual Sidewalk Sales!
LOCATION:
UID:e.3020.11906
SEQUENCE:3
DTSTAMP:20260420T082016Z
URL:https://www.stoughtonwi.com/events/details/sidewalk-sale-11906
END:VEVENT

END:VCALENDAR
