BEGIN:VCALENDAR
VERSION:2.0
PRODID:-//ChamberMaster//Event Calendar 2.0//EN
METHOD:PUBLISH
X-PUBLISHED-TTL:P3D
REFRESH-INTERVAL:P3D
CALSCALE:GREGORIAN
BEGIN:VEVENT
DTSTART:20240309T150000Z
DTEND:20240309T220000Z
X-MICROSOFT-CDO-ALLDAYEVENT:FALSE
SUMMARY:Sons of Norway Advanced Beginning Rosemaling Class
DESCRIPTION:Mandt Lodge is offering an Advanced Beginning Rosemaling class for students who have taken a Beginning Rosemaling Class. The two-day class will be on March 9 (Saturday) and March 10 (Sunday)\, 2024 from 9:00 AM   4PM\, at Sons of Norway Mandt Lodge - 317 Page Street\, Stoughton\, Wisconsin 53589.\n\n\n\nTaught by Kathy Julseth\, participants will build upon what they have already learned during their first beginning rosemaling class. This class will be taught in oil and participants can either paint on a backgrounded masonite board or on a provided project piece (project piece available at additional cost).\n\n\n\nClass Fees: $110.00 Sons of Norway Members and Seniors (age 55 & over) and $135.00 Non-members (Sons of Norway). Registration form and payment due: February 1\, 2024 ($25.00 of this class fee is non-refundable if you cancel or do not show up for class).\n\n\n\nA supply list will be sent to participants on or before February 16th. If you do not wish to purchase your own supplies   supplies will be available for purchase at the time of class for $20.00.\n\n\n\nIf you have any questions\, contact Nancy Odalen at 608-513-1837-cell or naodalen@charter.net.
X-ALT-DESC;FMTTYPE=text/html:Mandt Lodge is offering an Advanced Beginning Rosemaling class for students who have taken a Beginning Rosemaling Class. <strong>The two-day class will be on March 9 (Saturday) and March 10 (Sunday)\, 2024 from 9:00 AM &ndash\; 4PM\,</strong> at Sons of Norway Mandt Lodge - 317 Page Street\, Stoughton\, Wisconsin 53589.<br />\n<br />\nTaught by Kathy Julseth\, participants will build upon what they have already learned during their first beginning rosemaling class. This class will be taught in oil and participants can either paint on a backgrounded masonite board or on a provided project piece (project piece available at additional cost).<br />\n<br />\nClass Fees: $110.00 Sons of Norway Members and Seniors (age 55 &amp\; over) and $135.00 Non-members (Sons of Norway). Registration form and payment due: February 1\, 2024 ($25.00 of this class fee is non-refundable if you cancel or do not show up for class).<br />\n<br />\nA supply list will be sent to participants on or before February 16th. If you do not wish to purchase your own supplies &ndash\; supplies will be available for purchase at the time of class for $20.00.<br />\n<br />\nIf you have any questions\, contact Nancy Odalen at 608-513-1837-cell or naodalen@charter.net.
LOCATION:Sons of Norway 317 South Page St\, Stoughton
UID:e.3020.11634
SEQUENCE:3
DTSTAMP:20260420T022944Z
URL:https://www.stoughtonwi.com/events/details/sons-of-norway-advanced-beginning-rosemaling-class-11634
END:VEVENT

END:VCALENDAR
