BEGIN:VCALENDAR
VERSION:2.0
PRODID:-//ChamberMaster//Event Calendar 2.0//EN
METHOD:PUBLISH
X-PUBLISHED-TTL:P3D
REFRESH-INTERVAL:P3D
CALSCALE:GREGORIAN
BEGIN:VEVENT
DTSTART:20211008T220000Z
DTEND:20211009T000000Z
X-MICROSOFT-CDO-ALLDAYEVENT:FALSE
SUMMARY:Sons of Norway Fish Boil- Carry out only
DESCRIPTION:Sons of Norway October 8 Fish Boil Sons of Norway   Mandt Lodge will offer a carry-out fish boil on Friday\, October 8. This is a carry-out only event only and we hope to go back to in-person fish boils next spring. All orders must be pre-ordered and we will sell a total of 225 meals. Pick-up will begin at 5 PM. Watch the Sons of Norway Facebook page (Sons of Norway Stoughton WI) for ordering details and link. The lodge is located at 317 S. Page Street in Stoughton and we'll ask that cars approach the lodge from the south (from Riverside Cemetery direction) to help with traffic flow. The meal will be our traditional menu of Icelandic cod\, potatoes\, cole slaw\, carrots\, onions\, and cherry dessert (without nuts). Tickets are $15.00 paying by cash or checks (made to SN Mandt). Make your reservations at https://www.signupgenius.com/go/409054CA5A72C7-october
X-ALT-DESC;FMTTYPE=text/html:Sons of Norway October 8 Fish Boil Sons of Norway &ndash\; Mandt Lodge will offer a carry-out fish boil on Friday\, October 8. This is a carry-out only event only and we hope to go back to in-person fish boils next spring. All orders must be pre-ordered and we will sell a total of 225 meals. Pick-up will begin at 5 PM. Watch the Sons of Norway Facebook page (Sons of Norway Stoughton WI) for ordering details and link. The lodge is located at 317 S. Page Street in Stoughton and we&rsquo\;ll ask that cars approach the lodge from the south (from Riverside Cemetery direction) to help with traffic flow. The meal will be our traditional menu of Icelandic cod\, potatoes\, cole slaw\, carrots\, onions\, and cherry dessert (without nuts). Tickets are $15.00 paying by cash or checks (made to SN Mandt). Make your reservations at https://www.signupgenius.com/go/409054CA5A72C7-october
LOCATION:317 South Page Street\, Stoughton
UID:e.3020.6026
SEQUENCE:3
DTSTAMP:20260424T160549Z
URL:https://www.stoughtonwi.com/events/details/sons-of-norway-fish-boil-carry-out-only-6026
END:VEVENT

END:VCALENDAR
