BEGIN:VCALENDAR
VERSION:2.0
PRODID:-//ChamberMaster//Event Calendar 2.0//EN
METHOD:PUBLISH
X-PUBLISHED-TTL:P3D
REFRESH-INTERVAL:P3D
CALSCALE:GREGORIAN
BEGIN:VEVENT
DTSTART:20210927T110000Z
DTEND:20211003T010000Z
X-MICROSOFT-CDO-ALLDAYEVENT:FALSE
SUMMARY:Sons of Norway Foundation Auction
DESCRIPTION:Sons of Norway- Mandt Lodge October 2021 Foundation Month Auction Website link: https://www.32auctions.com/SNMandtFoundation2021 Opens on Monday\, September 27 at 6:00 AM CST and closes on Saturday\, October 2\, at 8:00 PM CST. Payment and delivery: All payments can be made in cash or check (made to SN Mandt Lodge). Items can be picked up at Sons of Norway- Mandt Lodge\, 317 South Page Street\, Stoughton\, WI on Sunday\, October 3 after 12:30 PM. Or contact Darlene Arneson (arnesonfamily5@gmail.com or 608-514-4951) to arrange pick-up. We welcome people to stay as Sons of Norway Mandt Lodge will host author Eric Dregni as he presents "For the Love of Cod: A Father and Son's Search for Norwegian Happiness". The Sunday afternoon program will be held at 317 South Page Street\, in Stoughton on Sunday\, October 3\, at 1:00 PM. Eric Dregni is author of twenty books\, including Vikings in the Attic\, Weird Minnesota\, and Let's Go Fishing! As a Fulbright fellow to Norway\, he survived a dinner of rakfisk (fermented fish) thanks to 80-proof aquavit\, took the "meat bus" to Sweden for cheap salami with a crowd of knitting pensioners\, and compiled his stories in In Cod We Trust: Living the Norwegian Dream. The Sons of Norway- Mandt Lodge Foundation Month Auction is a fundraiser for the Sons of Norway Foundation. The SN Foundation offers scholarships\, grants\, Humanitarian Funds (i.e. Helping Hands to Children\, Members- Disaster\, Members-Medical) support. To learn more\, visit www.sofn.com/foundation. The auction is being organized by Sons of Norway   Mandt Lodge 5-314 Foundation Director Jens Arneson and Lodge President Darlene Arneson.
X-ALT-DESC;FMTTYPE=text/html:Sons of Norway- Mandt Lodge October 2021 Foundation Month Auction Website link: https://www.32auctions.com/SNMandtFoundation2021 Opens on Monday\, September 27 at 6:00 AM CST and closes on Saturday\, October 2\, at 8:00 PM CST. Payment and delivery: All payments can be made in cash or check (made to SN Mandt Lodge). Items can be picked up at Sons of Norway- Mandt Lodge\, 317 South Page Street\, Stoughton\, WI on Sunday\, October 3 after 12:30 PM. Or contact Darlene Arneson (arnesonfamily5@gmail.com or 608-514-4951) to arrange pick-up. We welcome people to stay as Sons of Norway Mandt Lodge will host author Eric Dregni as he presents &ldquo\;For the Love of Cod: A Father and Son&rsquo\;s Search for Norwegian Happiness&rdquo\;. The Sunday afternoon program will be held at 317 South Page Street\, in Stoughton on Sunday\, October 3\, at 1:00 PM. Eric Dregni is author of twenty books\, including Vikings in the Attic\, Weird Minnesota\, and Let&rsquo\;s Go Fishing! As a Fulbright fellow to Norway\, he survived a dinner of rakfisk (fermented fish) thanks to 80-proof aquavit\, took the &ldquo\;meat bus&rdquo\; to Sweden for cheap salami with a crowd of knitting pensioners\, and compiled his stories in In Cod We Trust: Living the Norwegian Dream. The Sons of Norway- Mandt Lodge Foundation Month Auction is a fundraiser for the Sons of Norway Foundation. The SN Foundation offers scholarships\, grants\, Humanitarian Funds (i.e. Helping Hands to Children\, Members- Disaster\, Members-Medical) support. To learn more\, visit www.sofn.com/foundation. The auction is being organized by Sons of Norway &ndash\; Mandt Lodge 5-314 Foundation Director Jens Arneson and Lodge President Darlene Arneson.
LOCATION:Online auction Pick up at 317 South Page St\, Stoughton on Sunday
UID:e.3020.7285
SEQUENCE:3
DTSTAMP:20260424T173458Z
URL:https://www.stoughtonwi.com/events/details/sons-of-norway-foundation-auction-7285
END:VEVENT

END:VCALENDAR
