BEGIN:VCALENDAR
VERSION:2.0
PRODID:-//ChamberMaster//Event Calendar 2.0//EN
METHOD:PUBLISH
X-PUBLISHED-TTL:P3D
REFRESH-INTERVAL:P3D
CALSCALE:GREGORIAN
BEGIN:VEVENT
DTSTART:20211030T140000Z
DTEND:20211030T193000Z
X-MICROSOFT-CDO-ALLDAYEVENT:FALSE
SUMMARY:Sons of Norway Lefse Classes- 2 options
DESCRIPTION:Sons of Norway Lefse Baking Class Sons of Norway- Mandt Lodge will host two lefse classes on Saturday\, October 30 at Mandt Lodge. The lodge is located at 317 S. Page Street\, Stoughton. The registration fee for the class is $20 and youth ages 12 and under are $10. Lefse making class options: Saturday\, October 30 from 9:00 am- 11:00 or 12:30-2:30. Mandt Lodge members will share recipes and techniques for making lefse how our lodge makes it! Volunteers will walk participants through the mixing\, baking\, cooling and packaging process we use at Mandt. Of course\, sampling your work is encouraged and lefse will be sent home with participants. Mandt Lodge will provide equipment and supplies. Registrations are capped at 25 per class and will close when full. Registrations and payment needed to secure your spot and received by October 20.
X-ALT-DESC;FMTTYPE=text/html:Sons of Norway Lefse Baking Class Sons of Norway- Mandt Lodge will host two lefse classes on Saturday\, October 30 at Mandt Lodge. The lodge is located at 317 S. Page Street\, Stoughton. The registration fee for the class is $20 and youth ages 12 and under are $10. Lefse making class options: Saturday\, October 30 from 9:00 am- 11:00 or 12:30-2:30. Mandt Lodge members will share recipes and techniques for making lefse how our lodge makes it! Volunteers will walk participants through the mixing\, baking\, cooling and packaging process we use at Mandt. Of course\, sampling your work is encouraged and lefse will be sent home with participants. Mandt Lodge will provide equipment and supplies. Registrations are capped at 25 per class and will close when full. Registrations and payment needed to secure your spot and received by October 20.
LOCATION:317 South Page Street\, Stoughton
UID:e.3020.6003
SEQUENCE:3
DTSTAMP:20260424T173236Z
URL:https://www.stoughtonwi.com/events/details/sons-of-norway-lefse-classes-2-options-6003
END:VEVENT

END:VCALENDAR
