BEGIN:VCALENDAR
VERSION:2.0
PRODID:-//ChamberMaster//Event Calendar 2.0//EN
METHOD:PUBLISH
X-PUBLISHED-TTL:P3D
REFRESH-INTERVAL:P3D
CALSCALE:GREGORIAN
BEGIN:VEVENT
DTSTART:20240411T000000Z
DTEND:20240411T013000Z
X-MICROSOFT-CDO-ALLDAYEVENT:FALSE
SUMMARY:Sons of Norway Wizards and Magicians Program
DESCRIPTION:Sons of Norway - Mandt Lodge welcomes the public to a program on "Wizards and Magicians Were Found Everywhere- Legends of Witchcraft from the Nordic Countries". The program will be at Sons of Norway- 317 South Page Street\, Stoughton\, on Wednesday\, April 10\, at 7:00 PM.\n\n\n\nThis presentation examines some of the most widely shared beliefs and stories about witchcraft in Scandinavia during the early modern period\, when nearly everybody believed that there were people capable of harming others with magic. Due to a confluence of folk and elite belief in the period\, hundreds of people were accused\, tried\, and executed for the crime of witchcraft. We'll look especially at the worst of Norway's witch trials\, in seventeenth-century Finnmark\, to untangle the webs of fear and envy that sent dozens of people to the stake.\n\n\n\nAmber R. Cederstr m has a Ph.D. in Scandinavian Studies Folklore from the University of Wisconsin Madison\, where she defended her dissertation\, Poisoner\, Shapeshifter\, Adultress\, Thief: Legends and Images of Witchcraft in Finnmark and Gotland. She is currently an acquisitions editor at the University of Wisconsin Press.\n\n\n\nRefreshments will be served! Everyone is welcome and no reservations needed! Please contact Darlene Arneson at arnesonfamily5@gmail.com or 608-873-7209 for more information.\n\n\n\nMandt Lodge is handicapped accessible with a lift located on the south side of the building. There is parking on the street\, public parking lot behind the Stoughton Senior Center\, or in the Livsreise parking lot if their building is closed. We always encourage you to bring donations for the Stoughton Food Pantry! The public is always welcome at Mandt Lodge!
X-ALT-DESC;FMTTYPE=text/html:Sons of Norway - Mandt Lodge welcomes the public to a program on &ldquo\;Wizards and Magicians Were Found Everywhere- Legends of Witchcraft from the Nordic Countries&rdquo\;. The program will be at Sons of Norway- 317 South Page Street\, Stoughton\, on Wednesday\, April 10\, at 7:00 PM.<br />\n<br />\nThis presentation examines some of the most widely shared beliefs and stories about witchcraft in Scandinavia during the early modern period\, when nearly everybody believed that there were people capable of harming others with magic. Due to a confluence of folk and elite belief in the period\, hundreds of people were accused\, tried\, and executed for the crime of witchcraft. We&rsquo\;ll look especially at the worst of Norway&rsquo\;s witch trials\, in seventeenth-century Finnmark\, to untangle the webs of fear and envy that sent dozens of people to the stake.<br />\n<br />\nAmber R. Cederstr&ouml\;m has a Ph.D. in Scandinavian Studies&ndash\;Folklore from the University of Wisconsin&ndash\;Madison\, where she defended her dissertation\, Poisoner\, Shapeshifter\, Adultress\, Thief: Legends and Images of Witchcraft in Finnmark and Gotland. She is currently an acquisitions editor at the University of Wisconsin Press.<br />\n<br />\nRefreshments will be served! Everyone is welcome and no reservations needed! Please contact Darlene Arneson at arnesonfamily5@gmail.com or 608-873-7209 for more information.<br />\n<br />\nMandt Lodge is handicapped accessible with a lift located on the south side of the building. There is parking on the street\, public parking lot behind the Stoughton Senior Center\, or in the Livsreise parking lot if their building is closed. We always encourage you to bring donations for the Stoughton Food Pantry! The public is always welcome at Mandt Lodge!
LOCATION:317 South Page St\, Stoughton
UID:e.3020.11814
SEQUENCE:3
DTSTAMP:20260420T010916Z
URL:https://www.stoughtonwi.com/events/details/sons-of-norway-wizards-and-magicians-program-11814
END:VEVENT

END:VCALENDAR
