BEGIN:VCALENDAR
VERSION:2.0
PRODID:-//ChamberMaster//Event Calendar 2.0//EN
METHOD:PUBLISH
X-PUBLISHED-TTL:P3D
REFRESH-INTERVAL:P3D
CALSCALE:GREGORIAN
BEGIN:VEVENT
DTSTART:20240609T210000Z
DTEND:20240609T221500Z
X-MICROSOFT-CDO-ALLDAYEVENT:FALSE
SUMMARY:Sound Bath with Iris Mickey
DESCRIPTION:Sound Bath with Iris Mickey\n\nSunday\, June 9th at 4 - 5:15PM\n\n$39 registration early bird\, only 20 spots! \n\nMain Street Yoga at Ease Wellness\, 124 W. Main Street\, downtown Stoughton \n\nwww.MainStreetYogaStoughton.org/events\n\nFind Beauty in Sound. Along with one's own instrument for resonating inside with the voice\, it will be a full sound bath. Several instruments will be played including crystal bowls and chimes\, and plenty of time to receive the vibrations of sound.\n \n\nThe intention of the this Sound Bath is to find your internal resonance along with tuning in to outer sound. Iris will lead you through gentle practices including humming\, gentle breathing techniques\, and simple chanting. \n\n \n\nYour guide Iris Mickey has been a practicing Certified Yoga Therapist for the past 10 years and a yoga teacher for 20 years. She has studied the non dualistic philosophical  aspects of yoga throughout that time.  Bringing Sound Yoga (Nada Yoga) to her practice and offerings is a natural extension of exploring the more subtle aspects of yoga.  She is thrilled to bring this nourishing practice in our culture and community as a natural medicine and healing modality.
X-ALT-DESC;FMTTYPE=text/html:<p><strong>Sound Bath with Iris Mickey</strong></p>\n\n<p><strong>Sunday\, June 9th at 4 - 5:15PM</strong></p>\n\n<p><span style="color:rgb(0\, 0\, 0)\; font-family:arial\,sans-serif\; font-size:12pt">$39 registration early bird\, only 20 spots!&nbsp\;</span></p>\n\n<p><span style="background-color:transparent\; color:rgb(0\, 0\, 0)\; font-family:arial\,sans-serif\; font-size:11pt">Main Street Yoga at Ease Wellness\, 124 W. Main Street\, downtown Stoughton </span><br />\n<a href="http://www.mainstreetyogastoughton.org/events" style="text-decoration-line: none\;"><strong>www.MainStreetYogaStoughton.org/events</strong></a></p>\n\n<p><span style="color:rgb(0\, 0\, 0)\; font-family:arial\,sans-serif\; font-size:12pt">Find Beauty in Sound. Along with one&#39\;s own instrument for resonating inside with the voice\, it will be a full sound bath. Several instruments will be played including crystal bowls and chimes\, and plenty of time to receive the vibrations of sound.</span></p>\n&nbsp\;\n\n<p><span style="color:rgb(33\, 37\, 41)\; font-family:arial\,sans-serif\; font-size:12pt">The intention of the this Sound Bath is to find your internal resonance along with tuning in to outer sound. Iris will lead you through gentle practices including humming\, gentle breathing techniques\, and simple chanting.&nbsp\;</span></p>\n\n<p>&nbsp\;</p>\n\n<p><span style="color:rgb(33\, 37\, 41)\; font-family:arial\,sans-serif\; font-size:12pt">Your guide Iris Mickey has been a practicing Certified Yoga Therapist for the past 10 years and a yoga teacher for 20 years. She has studied the non dualistic philosophical&nbsp\; aspects of yoga throughout that time.&nbsp\; Bringing Sound Yoga (Nada Yoga) to her practice and offerings is a natural extension of exploring the more subtle aspects of yoga.&nbsp\; She is thrilled to bring this nourishing practice in our culture and community as a natural medicine and healing modality.</span></p>\n\n<div>&nbsp\;</div>\n
LOCATION:124 W. Main Street\, Stoughton\, WI
UID:e.3020.11910
SEQUENCE:3
DTSTAMP:20260420T035554Z
URL:https://www.stoughtonwi.com/events/details/sound-bath-with-iris-mickey-11910
END:VEVENT

END:VCALENDAR
