BEGIN:VCALENDAR
VERSION:2.0
PRODID:-//ChamberMaster//Event Calendar 2.0//EN
METHOD:PUBLISH
X-PUBLISHED-TTL:P3D
REFRESH-INTERVAL:P3D
CALSCALE:GREGORIAN
BEGIN:VEVENT
DTSTART:20240525T140000Z
DTEND:20240525T200000Z
X-MICROSOFT-CDO-ALLDAYEVENT:FALSE
SUMMARY:Spring Open Air Market
DESCRIPTION:Join Second Chance Thrift on Saturday May 25th 9am-3pm at Oak Knoll Park for the Spring Open Air Market!\n\n\n\nCome see over 40 vendors\, animal rescuers\, enjoy a brat (or two) and take home a goody from the bake sale!
X-ALT-DESC;FMTTYPE=text/html:Join Second Chance Thrift on Saturday May 25th 9am-3pm at Oak Knoll Park for the Spring Open Air Market!<br />\n<br />\nCome see over 40 vendors\, animal rescuers\, enjoy a brat (or two) and take home a goody from the bake sale!
LOCATION:Oak Knoll Park 2757 Burritt Rd Stoughton\, WI
UID:e.3020.11810
SEQUENCE:3
DTSTAMP:20260420T021808Z
URL:https://www.stoughtonwi.com/events/details/spring-open-air-market-11810
END:VEVENT

END:VCALENDAR
